BEGIN:VCALENDAR
VERSION:2.0
PRODID:-//Konsenskultur - ECPv6.15.20//NONSGML v1.0//EN
CALSCALE:GREGORIAN
METHOD:PUBLISH
X-WR-CALNAME:Konsenskultur
X-ORIGINAL-URL:https://konsenskultur.net
X-WR-CALDESC:Veranstaltungen für Konsenskultur
REFRESH-INTERVAL;VALUE=DURATION:PT1H
X-Robots-Tag:noindex
X-PUBLISHED-TTL:PT1H
BEGIN:VTIMEZONE
TZID:Europe/Berlin
BEGIN:DAYLIGHT
TZOFFSETFROM:+0100
TZOFFSETTO:+0200
TZNAME:CEST
DTSTART:20250330T010000
END:DAYLIGHT
BEGIN:STANDARD
TZOFFSETFROM:+0200
TZOFFSETTO:+0100
TZNAME:CET
DTSTART:20251026T010000
END:STANDARD
BEGIN:DAYLIGHT
TZOFFSETFROM:+0100
TZOFFSETTO:+0200
TZNAME:CEST
DTSTART:20260329T010000
END:DAYLIGHT
BEGIN:STANDARD
TZOFFSETFROM:+0200
TZOFFSETTO:+0100
TZNAME:CET
DTSTART:20261025T010000
END:STANDARD
BEGIN:DAYLIGHT
TZOFFSETFROM:+0100
TZOFFSETTO:+0200
TZNAME:CEST
DTSTART:20270328T010000
END:DAYLIGHT
BEGIN:STANDARD
TZOFFSETFROM:+0200
TZOFFSETTO:+0100
TZNAME:CET
DTSTART:20271031T010000
END:STANDARD
END:VTIMEZONE
BEGIN:VEVENT
DTSTART;TZID=Europe/Berlin:20260418T110000
DTEND;TZID=Europe/Berlin:20260418T170000
DTSTAMP:20260424T110248
CREATED:20260322T083902Z
LAST-MODIFIED:20260322T083902Z
UID:5532-1776510000-1776531600@konsenskultur.net
SUMMARY:Sex: Woher weiß ich\, was ich will? (Eberswalde)
DESCRIPTION:Eine ausführlichere Version des beliebten Workshops. \nWoher weiß ich\, was ich will? \nWoher weiß ich beim Sex eigentlich\, was ich will? Muss ich überhaupt etwas wollen? Muss ich das wissen? Und wenn ja: Kommuniziere ich das? Und wie? \nUnd wie ist das in anderen Bereichen? Weißt du da besser oder schlechter\, was du (nicht) willst? Oder ist das ein generelles Thema? Und warum willst du das überhaupt wissen? \nWir werden uns mit verschiedenen Ebenen von Wollen beschäftigen und mit Wegen\, mehr über unser Wollen herauszufinden. Was braucht unser persönliches Wollen\, unsere Lust und Begehren\, um sich zu zeigen?  Statt dem Dogma „Du musst wissen was du willst“\, machen wir einen Raum auf\, in dem Unsicherheit und Schüchternheit genauso willkommen sind wie drängende Wünsche und lang gehegte Phantasien. \nNeben Input wird es nicht-sexuelle Spiele und Raum für Austausch unter den Teilnehmenden geben. Wie viel du von dir zeigst\, und was du mitmachen möchtest bleibt dabei natürlich immer dir überlassen. \nAlle Körper und Geschlechter sind willkommen. Wer sich nicht vorstellen kann\, Übungen mit Menschen des eigenen Geschlechts zu machen ist zu diesem Workshop nicht eingeladen. \nOrganisiert von konsens-lernen.de \nGuckt hier oder meldet euch bei Jule direkt. \nkonsens-lernen.de/termine
URL:https://konsenskultur.net/event/sex-woher-weiss-ich-was-ich-will-eberswalde/
LOCATION:JEY Yogastudio\, Rudolf-Breitscheidt-Straße 14\, Eberswalde
END:VEVENT
END:VCALENDAR